BEGIN:VCALENDAR
VERSION:2.0
CALSCALE:GREGORIAN
PRODID:-//Diputació de Barcelona//DibaCMS//EN
BEGIN:VEVENT
UID:3485
DTSTAMP:20260422T021506
DTSTART:20180609T180000
DTEND:20180609T220000
SUMMARY:Festa de Fi de curs Escola Mare del Diví Pastor
LOCATION:
METHOD:PUBLISH
X-WR-CALNAME:capellades@capellades.cat
X-WR-TIMEZONE:Europe/Madrid
DESCRIPTION:L'escola Mare del Diví Pastor de Capellades celebra aquest dissabte la seva festa de fi de curs.

URI:https://www.capellades.cat/actualitat/agenda/festa-de-fi-de-curs-escola-mare-del-divi-pastor.html
CLASS:PUBLIC
END:VEVENT
END:VCALENDAR
