BEGIN:VCALENDAR
VERSION:2.0
CALSCALE:GREGORIAN
PRODID:-//Diputació de Barcelona//DibaCMS//EN
BEGIN:VEVENT
UID:3483
DTSTAMP:20260422T111048
DTSTART:20180609T190000
DTEND:20180609T220000
SUMMARY:De tant en tant, a Barcelona al Teatre
LOCATION:
METHOD:PUBLISH
X-WR-CALNAME:capellades@capellades.cat
X-WR-TIMEZONE:Europe/Madrid
DESCRIPTION:La Lliga proposa de tant en tant anar a Barcelona a veure teatre.

URI:https://www.capellades.cat/actualitat/agenda/3483-de-tant-en-tant-a-barcelona-al-teatre.html
CLASS:PUBLIC
END:VEVENT
END:VCALENDAR
