BEGIN:VCALENDAR
VERSION:2.0
CALSCALE:GREGORIAN
PRODID:-//Diputació de Barcelona//DibaCMS//EN
BEGIN:VEVENT
UID:3470
DTSTAMP:20260422T095331
DTSTART:20180607T113000
DTEND:20180607T220000
SUMMARY:Les Festes del Carrer acaben amb el Barri de les Places
LOCATION:
METHOD:PUBLISH
X-WR-CALNAME:capellades@capellades.cat
X-WR-TIMEZONE:Europe/Madrid
DESCRIPTION:El darrer dels cinc és el Barri de les Places.

URI:https://www.capellades.cat/actualitat/agenda/les-festes-del-carrer-acaben-amb-el-barri-de-les-places.html
CLASS:PUBLIC
END:VEVENT
END:VCALENDAR
