BEGIN:VCALENDAR
VERSION:2.0
CALSCALE:GREGORIAN
PRODID:-//Diputació de Barcelona//DibaCMS//EN
BEGIN:VEVENT
UID:3469
DTSTAMP:20260421T185705
DTSTART:20180606T103000
DTEND:20180606T113000
SUMMARY:Visita de l'Oficina Mòbil d'Atenció al Consumidor
LOCATION:
METHOD:PUBLISH
X-WR-CALNAME:capellades@capellades.cat
X-WR-TIMEZONE:Europe/Madrid
DESCRIPTION:Nova visita de l'Oficina Mòbil d'Atenció al Consumidor.

URI:https://www.capellades.cat/actualitat/agenda/visita-de-loficina-mobil-datencio-al-consumidor.html
CLASS:PUBLIC
END:VEVENT
END:VCALENDAR
