BEGIN:VCALENDAR
VERSION:2.0
CALSCALE:GREGORIAN
PRODID:-//Diputació de Barcelona//DibaCMS//EN
BEGIN:VEVENT
UID:3466
DTSTAMP:20260422T062245
DTSTART:20180604T113000
DTEND:20180604T213000
SUMMARY:Dilluns: Barri del Ruc
LOCATION:
METHOD:PUBLISH
X-WR-CALNAME:capellades@capellades.cat
X-WR-TIMEZONE:Europe/Madrid
DESCRIPTION:Dilluns és el Barri del Ruc.

URI:https://www.capellades.cat/actualitat/agenda/3466-dilluns-barri-del-ruc.html
CLASS:PUBLIC
END:VEVENT
END:VCALENDAR
