BEGIN:VCALENDAR
VERSION:2.0
CALSCALE:GREGORIAN
PRODID:-//Diputació de Barcelona//DibaCMS//EN
BEGIN:VEVENT
UID:3465
DTSTAMP:20260421T203122
DTSTART:20180603T180000
DTEND:20180603T200000
SUMMARY:Festa infantil amb Marc animació popular i tradicional
LOCATION:
METHOD:PUBLISH
X-WR-CALNAME:capellades@capellades.cat
X-WR-TIMEZONE:Europe/Madrid
DESCRIPTION:Aquest diumenge les Festes del Carrer fan la festa per a tots els nens i nenes de Capellades.

URI:https://www.capellades.cat/actualitat/agenda/festa-infantil-amb-marc-animacio-popular-i-tradicional.html
CLASS:PUBLIC
END:VEVENT
END:VCALENDAR
