BEGIN:VCALENDAR
VERSION:2.0
CALSCALE:GREGORIAN
PRODID:-//Diputació de Barcelona//DibaCMS//EN
BEGIN:VEVENT
UID:3464
DTSTAMP:20260421T175818
DTSTART:20180603T130000
DTEND:20180603T140000
SUMMARY:Concert vermut amb Cecili i Margarida
LOCATION:
METHOD:PUBLISH
X-WR-CALNAME:capellades@capellades.cat
X-WR-TIMEZONE:Europe/Madrid
DESCRIPTION:"50 anys de Folk Català" és el títol del recital que faran el Cecili Ruedas a la guitarra i la Margarida Bernús a la veu.

URI:https://www.capellades.cat/actualitat/agenda/concert-vermut-amb-cecili-i-margarida.html
CLASS:PUBLIC
END:VEVENT
END:VCALENDAR
