BEGIN:VCALENDAR
VERSION:2.0
CALSCALE:GREGORIAN
PRODID:-//Diputació de Barcelona//DibaCMS//EN
BEGIN:VEVENT
UID:3458
DTSTAMP:20260422T004541
DTSTART:20180601T193000
DTEND:20180601T210000
SUMMARY:El documental del mes: L'hora dels deures
LOCATION:
METHOD:PUBLISH
X-WR-CALNAME:capellades@capellades.cat
X-WR-TIMEZONE:Europe/Madrid
DESCRIPTION:Aquest mes de juny el documental de La Lliga serà "L'hora de fer els deures".

URI:https://www.capellades.cat/actualitat/agenda/el-documental-del-mes-lhora-dels-deures.html
CLASS:PUBLIC
END:VEVENT
END:VCALENDAR
