BEGIN:VCALENDAR
VERSION:2.0
CALSCALE:GREGORIAN
PRODID:-//Diputació de Barcelona//DibaCMS//EN
BEGIN:VEVENT
UID:3457
DTSTAMP:20260422T073903
DTSTART:20180602T113000
DTEND:20180602T220000
SUMMARY:Barri de les Bledes
LOCATION:
METHOD:PUBLISH
X-WR-CALNAME:capellades@capellades.cat
X-WR-TIMEZONE:Europe/Madrid
DESCRIPTION:El primer dels cinc que celebren la seva festa és dissabte amb el Barri de les Bledes.

URI:https://www.capellades.cat/actualitat/agenda/3457-barri-de-les-bledes.html
CLASS:PUBLIC
END:VEVENT
END:VCALENDAR
