BEGIN:VCALENDAR
VERSION:2.0
CALSCALE:GREGORIAN
PRODID:-//Diputació de Barcelona//DibaCMS//EN
BEGIN:VEVENT
UID:3456
DTSTAMP:20260422T063907
DTSTART:20180601T210000
DTEND:20180601T230000
SUMMARY:Comencen les Festes del Carrer 
LOCATION:
METHOD:PUBLISH
X-WR-CALNAME:capellades@capellades.cat
X-WR-TIMEZONE:Europe/Madrid
DESCRIPTION:Aquest divendres comencen les tradicionals Festes del Carrer de Capellades.

URI:https://www.capellades.cat/actualitat/agenda/comencen-les-festes-del-carrer-.html
CLASS:PUBLIC
END:VEVENT
END:VCALENDAR
