BEGIN:VCALENDAR
VERSION:2.0
CALSCALE:GREGORIAN
PRODID:-//Diputació de Barcelona//DibaCMS//EN
BEGIN:VEVENT
UID:3455
DTSTAMP:20260421T173914
DTSTART:20180603T110000
DTEND:20180603T200000
SUMMARY:Portes obertes a la Piscina Blava 
LOCATION:08786 Capellades
METHOD:PUBLISH
X-WR-CALNAME:capellades@capellades.cat
X-WR-TIMEZONE:Europe/Madrid
DESCRIPTION:Comença la temporada de bany amb una Jornada de Portes Obertes a la Piscina Blava.

URI:https://www.capellades.cat/actualitat/agenda/portes-obertes-a-la-piscina-blava-.html
CLASS:PUBLIC
END:VEVENT
END:VCALENDAR
