BEGIN:VCALENDAR
VERSION:2.0
CALSCALE:GREGORIAN
PRODID:-//Diputació de Barcelona//DibaCMS//EN
BEGIN:VEVENT
UID:3454
DTSTAMP:20260422T063622
DTSTART:20180603T090000
DTEND:20180603T140000
SUMMARY:BTT Xallenger Capellades
LOCATION:
METHOD:PUBLISH
X-WR-CALNAME:capellades@capellades.cat
X-WR-TIMEZONE:Europe/Madrid
DESCRIPTION:Nova edició de la cursa ciclista BTT Xallenger a Capellades.

URI:https://www.capellades.cat/actualitat/agenda/btt-xallenger-capellades.html
CLASS:PUBLIC
END:VEVENT
END:VCALENDAR
