BEGIN:VCALENDAR
VERSION:2.0
CALSCALE:GREGORIAN
PRODID:-//Diputació de Barcelona//DibaCMS//EN
BEGIN:VEVENT
UID:3441
DTSTAMP:20260421T215012
DTSTART:20180525T210000
DTEND:20180525T230000
SUMMARY:Acostem cultures
LOCATION:
METHOD:PUBLISH
X-WR-CALNAME:capellades@capellades.cat
X-WR-TIMEZONE:Europe/Madrid
DESCRIPTION:L'Associació sociocultural Arrels i Branques organitza un nou acte per acostar cultures.

URI:https://www.capellades.cat/actualitat/agenda/acostem-cultures.html
CLASS:PUBLIC
END:VEVENT
END:VCALENDAR
