BEGIN:VCALENDAR
VERSION:2.0
CALSCALE:GREGORIAN
PRODID:-//Diputació de Barcelona//DibaCMS//EN
BEGIN:VEVENT
UID:3435
DTSTAMP:20260422T050515
DTSTART:20180518T210000
DTEND:20180518T220000
SUMMARY:El Museu Molí Paperer se suma a la Nit dels Museus
LOCATION:
METHOD:PUBLISH
X-WR-CALNAME:capellades@capellades.cat
X-WR-TIMEZONE:Europe/Madrid
DESCRIPTION:El Museu Molí Paperer de Capellades se suma a la celebració, divendres 18 de maig, del Dia Internacional dels Museus, amb dues propostes.

URI:https://www.capellades.cat/actualitat/agenda/el-museu-moli-paperer-se-suma-a-la-nit-dels-museus.html
CLASS:PUBLIC
END:VEVENT
END:VCALENDAR
