BEGIN:VCALENDAR
VERSION:2.0
CALSCALE:GREGORIAN
PRODID:-//Diputació de Barcelona//DibaCMS//EN
BEGIN:VEVENT
UID:3434
DTSTAMP:20260422T051121
DTSTART:20180520T180000
DTEND:20180603T200000
SUMMARY:Exposició Symbiosis a Casa Bas
LOCATION:C/ D'Oló 08786 Capellades
METHOD:PUBLISH
X-WR-CALNAME:capellades@capellades.cat
X-WR-TIMEZONE:Europe/Madrid
DESCRIPTION:Aquest diumenge 20 de maig s'inaugura a les sis de la tarda, a Casa Bas, l'exposició "Symbiosis".

URI:https://www.capellades.cat/actualitat/agenda/exposicio-symbiosis-a-casa-bas.html
CLASS:PUBLIC
END:VEVENT
END:VCALENDAR
