BEGIN:VCALENDAR
VERSION:2.0
CALSCALE:GREGORIAN
PRODID:-//Diputació de Barcelona//DibaCMS//EN
BEGIN:VEVENT
UID:3433
DTSTAMP:20260422T033503
DTSTART:20180531T210000
DTEND:20180531T235500
SUMMARY:Comença La Lliga dels Gourmets
LOCATION:
METHOD:PUBLISH
X-WR-CALNAME:capellades@capellades.cat
X-WR-TIMEZONE:Europe/Madrid
DESCRIPTION:La Lliga proposa una nova activitat: La Lliga dels Gourmets. Es tracta que, de tant en tant, anem a un restaurant que per la seva singularitat ens sigui atraient, ens cridi l’atenció. I no només per gaudir del menjar, sinó per poder compartir la sobretaula amb el xef.

URI:https://www.capellades.cat/actualitat/agenda/comenca-la-lliga-dels-gourmets.html
CLASS:PUBLIC
END:VEVENT
END:VCALENDAR
