BEGIN:VCALENDAR
VERSION:2.0
CALSCALE:GREGORIAN
PRODID:-//Diputació de Barcelona//DibaCMS//EN
BEGIN:VEVENT
UID:3432
DTSTAMP:20260421T233000
DTSTART:20180528T180000
DTEND:20180528T190000
SUMMARY: Es suspèn la tertúlia amb Lola Vendetta
LOCATION:
METHOD:PUBLISH
X-WR-CALNAME:capellades@capellades.cat
X-WR-TIMEZONE:Europe/Madrid
DESCRIPTION:Avui dilluns era previst que hi hagués una trobada amb la dibuixant i il·lustradora Lola Vendetta a la Sala d'Actes de la Biblioteca explicant com fan els seus dibuixos i vinyetes.

URI:https://www.capellades.cat/actualitat/agenda/-es-suspen-la-tertulia-amb-lola-vendetta.html
CLASS:PUBLIC
END:VEVENT
END:VCALENDAR
