BEGIN:VCALENDAR
VERSION:2.0
CALSCALE:GREGORIAN
PRODID:-//Diputació de Barcelona//DibaCMS//EN
BEGIN:VEVENT
UID:3429
DTSTAMP:20260422T052212
DTSTART:20180527T180000
DTEND:20180527T193000
SUMMARY:Segon concert del Festival d'Orgue de Capellades
LOCATION:Plaça Verdaguer 08786 Capellades
METHOD:PUBLISH
X-WR-CALNAME:capellades@capellades.cat
X-WR-TIMEZONE:Europe/Madrid
DESCRIPTION:El segon recital del Festival d'Orgue de Capellades tindrà a Juan de la Rubia com a principal protagonista.

URI:https://www.capellades.cat/actualitat/agenda/3429-segon-concert-del-festival-dorgue-de-capellades.html
CLASS:PUBLIC
END:VEVENT
END:VCALENDAR
