BEGIN:VCALENDAR
VERSION:2.0
CALSCALE:GREGORIAN
PRODID:-//Diputació de Barcelona//DibaCMS//EN
BEGIN:VEVENT
UID:3428
DTSTAMP:20260421T231035
DTSTART:20180526T110000
DTEND:20180526T130000
SUMMARY:Tastet d'instruments
LOCATION:
METHOD:PUBLISH
X-WR-CALNAME:capellades@capellades.cat
X-WR-TIMEZONE:Europe/Madrid
DESCRIPTION:El dissabte 26 de maig l'Escola de Música sortirà al carrer per fer un Tastet d'Instruments.

URI:https://www.capellades.cat/actualitat/agenda/tastet-dinstruments.html
CLASS:PUBLIC
END:VEVENT
END:VCALENDAR
