BEGIN:VCALENDAR
VERSION:2.0
CALSCALE:GREGORIAN
PRODID:-//Diputació de Barcelona//DibaCMS//EN
BEGIN:VEVENT
UID:3427
DTSTAMP:20260422T052251
DTSTART:20180521T170000
DTEND:20180525T200000
SUMMARY:Setmana de portes obertes a l'Escola de Música
LOCATION:C/ Divina Pastora, 10 08786 Capellades
METHOD:PUBLISH
X-WR-CALNAME:capellades@capellades.cat
X-WR-TIMEZONE:Europe/Madrid
DESCRIPTION:L'Escola de Música de Capellades fa una setmana de portes obertes del 21 al 25 de maig 

URI:https://www.capellades.cat/actualitat/agenda/3427-setmana-de-portes-obertes-a-lescola-de-musica.html
CLASS:PUBLIC
END:VEVENT
END:VCALENDAR
