BEGIN:VCALENDAR
VERSION:2.0
CALSCALE:GREGORIAN
PRODID:-//Diputació de Barcelona//DibaCMS//EN
BEGIN:VEVENT
UID:3426
DTSTAMP:20260422T104809
DTSTART:20180526T190000
DTEND:20180526T200000
SUMMARY:Concert especial "Els amants de Lulú"
LOCATION:C/ del Fossar, 4 08786 Capellades
METHOD:PUBLISH
X-WR-CALNAME:capellades@capellades.cat
X-WR-TIMEZONE:Europe/Madrid
DESCRIPTION:Concert especial a Paper de Música amb els "Amants de Lulú".

URI:https://www.capellades.cat/actualitat/agenda/concert-especial-els-amants-de-lulu.html
CLASS:PUBLIC
END:VEVENT
END:VCALENDAR
