BEGIN:VCALENDAR
VERSION:2.0
CALSCALE:GREGORIAN
PRODID:-//Diputació de Barcelona//DibaCMS//EN
BEGIN:VEVENT
UID:3421
DTSTAMP:20260422T003808
DTSTART:20180525T193000
DTEND:20180525T203000
SUMMARY:Xerrada de salut: Coneixent l'ansietat
LOCATION:C/ Pilar, 13 08786 Capellades
METHOD:PUBLISH
X-WR-CALNAME:capellades@capellades.cat
X-WR-TIMEZONE:Europe/Madrid
DESCRIPTION:El Centre Mèdic i la Societat La Lliga proposen una nova xerrada de salut.

URI:https://www.capellades.cat/actualitat/agenda/xerrada-de-salut-coneixent-lansietat.html
CLASS:PUBLIC
END:VEVENT
END:VCALENDAR
