BEGIN:VCALENDAR
VERSION:2.0
CALSCALE:GREGORIAN
PRODID:-//Diputació de Barcelona//DibaCMS//EN
BEGIN:VEVENT
UID:3420
DTSTAMP:20260422T074826
DTSTART:20180525T093000
DTEND:20180525T113000
SUMMARY:Caminada del Mou-te
LOCATION:C/ Torrenova, s/n 08786 Capellades
METHOD:PUBLISH
X-WR-CALNAME:capellades@capellades.cat
X-WR-TIMEZONE:Europe/Madrid
DESCRIPTION:El darrer divendres de mes es proposa des del CAP-Capellades, el Mou-te.

 

URI:https://www.capellades.cat/actualitat/agenda/caminada-del-mou-te.html
CLASS:PUBLIC
END:VEVENT
END:VCALENDAR
