BEGIN:VCALENDAR
VERSION:2.0
CALSCALE:GREGORIAN
PRODID:-//Diputació de Barcelona//DibaCMS//EN
BEGIN:VEVENT
UID:3418
DTSTAMP:20260422T035925
DTSTART:20180526T110000
DTEND:20180526T120000
SUMMARY:Xerrada informativa sobre el nou sistema de recollida Porta a Porta
LOCATION:
METHOD:PUBLISH
X-WR-CALNAME:capellades@capellades.cat
X-WR-TIMEZONE:Europe/Madrid
DESCRIPTION:La darrera xerrada informativa serà el dissabte al matí, a les onze, al Teatre La Lliga.

URI:https://www.capellades.cat/actualitat/agenda/3418-xerrada-informativa-sobre-el-nou-sistema-de-recollida-porta-a-porta.html
CLASS:PUBLIC
END:VEVENT
END:VCALENDAR
