BEGIN:VCALENDAR
VERSION:2.0
CALSCALE:GREGORIAN
PRODID:-//Diputació de Barcelona//DibaCMS//EN
BEGIN:VEVENT
UID:3416
DTSTAMP:20260422T020847
DTSTART:20180524T153000
DTEND:20180524T163000
SUMMARY:Xerrada informativa sobre el nou sistema de recollida Porta a Porta
LOCATION:
METHOD:PUBLISH
X-WR-CALNAME:capellades@capellades.cat
X-WR-TIMEZONE:Europe/Madrid
DESCRIPTION:El dijous 24 de maig, a dos quarts de quatre, es farà la primera de les 4 xerrades previstes per informar la ciutadania sobre el nou model de recollida de brossa porta a porta.

URI:https://www.capellades.cat/actualitat/agenda/3416-xerrada-informativa-sobre-el-nou-sistema-de-recollida-porta-a-porta.html
CLASS:PUBLIC
END:VEVENT
END:VCALENDAR
