BEGIN:VCALENDAR
VERSION:2.0
CALSCALE:GREGORIAN
PRODID:-//Diputació de Barcelona//DibaCMS//EN
BEGIN:VEVENT
UID:3415
DTSTAMP:20260422T052357
DTSTART:20180523T190000
DTEND:20180523T200000
SUMMARY:Xerrada informativa sobre el nou sistema de recollida Porta a Porta
LOCATION:
METHOD:PUBLISH
X-WR-CALNAME:capellades@capellades.cat
X-WR-TIMEZONE:Europe/Madrid
DESCRIPTION:El dimecres 23 de maig es farà la primera de les 4 xerrades previstes per informar la ciutadania sobre el nou model de recollida de brossa porta a porta.

URI:https://www.capellades.cat/actualitat/agenda/xerrada-informativa-sobre-el-nou-sistema-de-recollida-porta-a-porta.html
CLASS:PUBLIC
END:VEVENT
END:VCALENDAR
