BEGIN:VCALENDAR
VERSION:2.0
CALSCALE:GREGORIAN
PRODID:-//Diputació de Barcelona//DibaCMS//EN
BEGIN:VEVENT
UID:3414
DTSTAMP:20260422T004756
DTSTART:20180522T180000
DTEND:20180522T190000
SUMMARY:Conte en anglès: Norman the sluc with the silly shell
LOCATION:C/ Pilar, 2 08786 Capellades
METHOD:PUBLISH
X-WR-CALNAME:capellades@capellades.cat
X-WR-TIMEZONE:Europe/Madrid
DESCRIPTION:Aquest mes de maig l'hora del conte en anglès canvia de dia i es fa en dimarts.

URI:https://www.capellades.cat/actualitat/agenda/conte-en-angles-norman-the-sluc-with-the-silly-shell.html
CLASS:PUBLIC
END:VEVENT
END:VCALENDAR
