BEGIN:VCALENDAR
VERSION:2.0
CALSCALE:GREGORIAN
PRODID:-//Diputació de Barcelona//DibaCMS//EN
BEGIN:VEVENT
UID:3412
DTSTAMP:20260422T140917
DTSTART:20180520T180000
DTEND:20180520T200000
SUMMARY:Tarda de Teatre amb T-Atraco
LOCATION:C/ Pilar, 13 08786 Capellades
METHOD:PUBLISH
X-WR-CALNAME:capellades@capellades.cat
X-WR-TIMEZONE:Europe/Madrid
DESCRIPTION:T-Atraco Teatre presenta l'obra "La quarta via".

URI:https://www.capellades.cat/actualitat/agenda/tarda-de-teatre-amb-t-atraco.html
CLASS:PUBLIC
END:VEVENT
END:VCALENDAR
