BEGIN:VCALENDAR
VERSION:2.0
CALSCALE:GREGORIAN
PRODID:-//Diputació de Barcelona//DibaCMS//EN
BEGIN:VEVENT
UID:3411
DTSTAMP:20260422T051152
DTSTART:20180520T210000
DTEND:20180520T223000
SUMMARY:Nova representació del Petit Príncep
LOCATION:
METHOD:PUBLISH
X-WR-CALNAME:capellades@capellades.cat
X-WR-TIMEZONE:Europe/Madrid
DESCRIPTION:El Grup Teatral de Capellades portarà l'obra El Petit Príncep a les Festes del Roser, a Vallbona d'Anoia.

URI:https://www.capellades.cat/actualitat/agenda/nova-representacio-del-petit-princep.html
CLASS:PUBLIC
END:VEVENT
END:VCALENDAR
