BEGIN:VCALENDAR
VERSION:2.0
CALSCALE:GREGORIAN
PRODID:-//Diputació de Barcelona//DibaCMS//EN
BEGIN:VEVENT
UID:3410
DTSTAMP:20260422T081857
DTSTART:20180520T130000
DTEND:20180520T140000
SUMMARY:Concert dels grups instrumentals de l'Escola de Música
LOCATION:
METHOD:PUBLISH
X-WR-CALNAME:capellades@capellades.cat
X-WR-TIMEZONE:Europe/Madrid
DESCRIPTION:Els grups d'instrumentals de l'Escola de Música de Capellades oferiran un concert al Centre Cultural i Recreatiu de Vilanova d'Espoia.

URI:https://www.capellades.cat/actualitat/agenda/concert-dels-grups-instrumentals-de-lescola-de-musica.html
CLASS:PUBLIC
END:VEVENT
END:VCALENDAR
