BEGIN:VCALENDAR
VERSION:2.0
CALSCALE:GREGORIAN
PRODID:-//Diputació de Barcelona//DibaCMS//EN
BEGIN:VEVENT
UID:3409
DTSTAMP:20260422T033135
DTSTART:20180520T113000
DTEND:20180520T140000
SUMMARY:Inauguració de la sala petita 
LOCATION:
METHOD:PUBLISH
X-WR-CALNAME:capellades@capellades.cat
X-WR-TIMEZONE:Europe/Madrid
DESCRIPTION:Aquest diumenge s'inaugura la sala petita del Teatre La Lliga amb diverses activitats.

URI:https://www.capellades.cat/actualitat/agenda/inauguracio-de-la-sala-petita-.html
CLASS:PUBLIC
END:VEVENT
END:VCALENDAR
