BEGIN:VCALENDAR
VERSION:2.0
CALSCALE:GREGORIAN
PRODID:-//Diputació de Barcelona//DibaCMS//EN
BEGIN:VEVENT
UID:3405
DTSTAMP:20260422T050044
DTSTART:20180519T093000
DTEND:20180519T133000
SUMMARY:Festa del Joc i l'Esport
LOCATION:
METHOD:PUBLISH
X-WR-CALNAME:capellades@capellades.cat
X-WR-TIMEZONE:Europe/Madrid
DESCRIPTION:Aquest dissabte Capellades acull la segona edició de la Festa del Joc i l'Esport.

URI:https://www.capellades.cat/actualitat/agenda/festa-del-joc-i-lesport.html
CLASS:PUBLIC
END:VEVENT
END:VCALENDAR
