BEGIN:VCALENDAR
VERSION:2.0
CALSCALE:GREGORIAN
PRODID:-//Diputació de Barcelona//DibaCMS//EN
BEGIN:VEVENT
UID:3403
DTSTAMP:20260422T035308
DTSTART:20180512T170000
DTEND:20180512T190000
SUMMARY:La sardana del capelladí Xavi Cassanyes , finalista com Sardana de l'Any
LOCATION:
METHOD:PUBLISH
X-WR-CALNAME:capellades@capellades.cat
X-WR-TIMEZONE:Europe/Madrid
DESCRIPTION:L'obra "Sardanes d'argent" del músic capelladí Xavier Cassanyes ha estat seleccionada pel jurat com a finalista del concurs la Sardana de l'Any.

URI:https://www.capellades.cat/actualitat/agenda/la-sardana-del-capelladi-xavi-cassanyes--finalista-com-sardana-de-lany.html
CLASS:PUBLIC
END:VEVENT
END:VCALENDAR
