BEGIN:VCALENDAR
VERSION:2.0
CALSCALE:GREGORIAN
PRODID:-//Diputació de Barcelona//DibaCMS//EN
BEGIN:VEVENT
UID:3402
DTSTAMP:20260422T111032
DTSTART:20180512T150000
DTEND:20180513T180000
SUMMARY:Partits a casa del Club de Futbol Sala Capellades
LOCATION:
METHOD:PUBLISH
X-WR-CALNAME:capellades@capellades.cat
X-WR-TIMEZONE:Europe/Madrid
DESCRIPTION:Aquest cap de setmana el CF Sala Capellades jugarà 4 partits. Els 3 de dissabte a casa i el de diumenge al Pavelló de la Torre.

URI:https://www.capellades.cat/actualitat/agenda/partits-a-casa-del-club-de-futbol-sala-capellades.html
CLASS:PUBLIC
END:VEVENT
END:VCALENDAR
