BEGIN:VCALENDAR
VERSION:2.0
CALSCALE:GREGORIAN
PRODID:-//Diputació de Barcelona//DibaCMS//EN
BEGIN:VEVENT
UID:3395
DTSTAMP:20260422T003521
DTSTART:20180518T200000
DTEND:20180518T220000
SUMMARY:Cinefòrum Josep Romanyà i Montcada: Luces de la ciudad
LOCATION:C/ del Fossar, 4 08786 Capellades
METHOD:PUBLISH
X-WR-CALNAME:capellades@capellades.cat
X-WR-TIMEZONE:Europe/Madrid
DESCRIPTION:Josep Maria Català farà la presentació i moderació del col·loqui del nou Cinefòrum Josep Romanyà i Montcada.

URI:https://www.capellades.cat/actualitat/agenda/cineforum-josep-romanya-i-montcada-luces-de-la-ciudad.html
CLASS:PUBLIC
END:VEVENT
END:VCALENDAR
