BEGIN:VCALENDAR
VERSION:2.0
CALSCALE:GREGORIAN
PRODID:-//Diputació de Barcelona//DibaCMS//EN
BEGIN:VEVENT
UID:3394
DTSTAMP:20260421T232247
DTSTART:20180518T193000
DTEND:20180518T210000
SUMMARY:Festival poètic dedicat a poetes capelladins
LOCATION:C/ Pilar, 13 08786 Capellades
METHOD:PUBLISH
X-WR-CALNAME:capellades@capellades.cat
X-WR-TIMEZONE:Europe/Madrid
DESCRIPTION:Aquest és un acte de La Lliga que estava previst per al passat Dia Mundial de la Poesia, però que finalment es va haver de suspendre.

URI:https://www.capellades.cat/actualitat/agenda/festival-poetic-dedicat-a-poetes-capelladins.html
CLASS:PUBLIC
END:VEVENT
END:VCALENDAR
