BEGIN:VCALENDAR
VERSION:2.0
CALSCALE:GREGORIAN
PRODID:-//Diputació de Barcelona//DibaCMS//EN
BEGIN:VEVENT
UID:3390
DTSTAMP:20260422T073158
DTSTART:20180517T193000
DTEND:20180517T210000
SUMMARY:Conferència: El Paper de Capellades
LOCATION:C/ Pilar, 13 08786 Capellades
METHOD:PUBLISH
X-WR-CALNAME:capellades@capellades.cat
X-WR-TIMEZONE:Europe/Madrid
DESCRIPTION:La producció paperera catalana presenta un gran increment al llarg del segle XVIII, amb la formació de nuclis molt actius i reconeguts per la qualitat de la seva producció, com el que, històricament, rebia el nom de Comarca de Capellades.

URI:https://www.capellades.cat/actualitat/agenda/conferencia-el-paper-de-capellades.html
CLASS:PUBLIC
END:VEVENT
END:VCALENDAR
