BEGIN:VCALENDAR
VERSION:2.0
CALSCALE:GREGORIAN
PRODID:-//Diputació de Barcelona//DibaCMS//EN
BEGIN:VEVENT
UID:3389
DTSTAMP:20260421T214253
DTSTART:20180515T173000
DTEND:20180515T183000
SUMMARY:Xerrada: Alimentació complementària Autoregulada
LOCATION:C/ Pilar, 2 08786 Capellades
METHOD:PUBLISH
X-WR-CALNAME:capellades@capellades.cat
X-WR-TIMEZONE:Europe/Madrid
DESCRIPTION:L'assessora de lactància amb formació BLW Gemma López farà una xerrada a la sala d'actes de la Biblioteca El Safareig sobre Alimentació Complementària Autoregulada.

URI:https://www.capellades.cat/actualitat/agenda/xerrada-alimentacio-complementaria-autoregulada.html
CLASS:PUBLIC
END:VEVENT
END:VCALENDAR
