BEGIN:VCALENDAR
VERSION:2.0
CALSCALE:GREGORIAN
PRODID:-//Diputació de Barcelona//DibaCMS//EN
BEGIN:VEVENT
UID:3388
DTSTAMP:20260422T064159
DTSTART:20180515T170000
DTEND:20180515T210000
SUMMARY:Campanya de donació Banc de Sang i Teixits
LOCATION:C/ Divina Pastora, 1 08786 Capellades
METHOD:PUBLISH
X-WR-CALNAME:capellades@capellades.cat
X-WR-TIMEZONE:Europe/Madrid
DESCRIPTION:Vols donar sang? Una unitat mòbil del Banc de Sang i Teixits serà a Capellades, a Cal Ponet,  el dimarts 15 de maig a la tarda, de 17 a 21 hores.

URI:https://www.capellades.cat/actualitat/agenda/campanya-de-donacio-banc-de-sang-i-teixits.html
CLASS:PUBLIC
END:VEVENT
END:VCALENDAR
