BEGIN:VCALENDAR
VERSION:2.0
CALSCALE:GREGORIAN
PRODID:-//Diputació de Barcelona//DibaCMS//EN
BEGIN:VEVENT
UID:3383
DTSTAMP:20260421T214131
DTSTART:20180513T100000
DTEND:20180513T140000
SUMMARY:Mercat d'Antigüitats
LOCATION:
METHOD:PUBLISH
X-WR-CALNAME:capellades@capellades.cat
X-WR-TIMEZONE:Europe/Madrid
DESCRIPTION:La Plaça Catalunya acull cada segon diumenge de mes un Mercat d'Antigüitats.

URI:https://www.capellades.cat/actualitat/agenda/3383-mercat-dantiguitats.html
CLASS:PUBLIC
END:VEVENT
END:VCALENDAR
