BEGIN:VCALENDAR
VERSION:2.0
CALSCALE:GREGORIAN
PRODID:-//Diputació de Barcelona//DibaCMS//EN
BEGIN:VEVENT
UID:3382
DTSTAMP:20260422T003623
DTSTART:20180507T000000
DTEND:20180507T000000
SUMMARY:Mercat d'Antigüitats
LOCATION:
METHOD:PUBLISH
X-WR-CALNAME:capellades@capellades.cat
X-WR-TIMEZONE:Europe/Madrid
DESCRIPTION:
URI:https://www.capellades.cat/actualitat/agenda/3382-mercat-dantiguitats.html
CLASS:PUBLIC
END:VEVENT
END:VCALENDAR
