BEGIN:VCALENDAR
VERSION:2.0
CALSCALE:GREGORIAN
PRODID:-//Diputació de Barcelona//DibaCMS//EN
BEGIN:VEVENT
UID:3381
DTSTAMP:20260422T032318
DTSTART:20180513T110000
DTEND:20180513T150000
SUMMARY:Mercat d'Intercanvi i Segona Mà a La Lliga
LOCATION:
METHOD:PUBLISH
X-WR-CALNAME:capellades@capellades.cat
X-WR-TIMEZONE:Europe/Madrid
DESCRIPTION:Nova edició de la proposta "Els encants de La Lliga", proposada des de la mateixa Societat La Lliga.

URI:https://www.capellades.cat/actualitat/agenda/mercat-dintercanvi-i-segona-ma-a-la-lliga.html
CLASS:PUBLIC
END:VEVENT
END:VCALENDAR
