BEGIN:VCALENDAR
VERSION:2.0
CALSCALE:GREGORIAN
PRODID:-//Diputació de Barcelona//DibaCMS//EN
BEGIN:VEVENT
UID:3380
DTSTAMP:20260422T110352
DTSTART:20180512T090000
DTEND:20180513T200000
SUMMARY:Sortida de 2 dies: Caminant per la Comarca
LOCATION:
METHOD:PUBLISH
X-WR-CALNAME:capellades@capellades.cat
X-WR-TIMEZONE:Europe/Madrid
DESCRIPTION:El grup Caminant per la Comarca, d'Aemdekp, organitza aquest mes una sortida de dos dies.

URI:https://www.capellades.cat/actualitat/agenda/sortida-de-2-dies-caminant-per-la-comarca.html
CLASS:PUBLIC
END:VEVENT
END:VCALENDAR
