BEGIN:VCALENDAR
VERSION:2.0
CALSCALE:GREGORIAN
PRODID:-//Diputació de Barcelona//DibaCMS//EN
BEGIN:VEVENT
UID:3379
DTSTAMP:20260422T035726
DTSTART:20180510T193000
DTEND:20180510T203000
SUMMARY:Es suspèn la xerrada de salut: Reeducació del sòl pelvià
LOCATION:C/ Pilar, 13 08786 Capellades
METHOD:PUBLISH
X-WR-CALNAME:capellades@capellades.cat
X-WR-TIMEZONE:Europe/Madrid
DESCRIPTION:La xerrada amb la fisioterapeuta Ana Ramos, del centre de salut Afisiona, prevista per avui al Saló Rosa de La Lliga de Capellades, s'ha suspès.

URI:https://www.capellades.cat/actualitat/agenda/es-suspen-la-xerrada-de-salut-reeducacio-del-sol-pelvia.html
CLASS:PUBLIC
END:VEVENT
END:VCALENDAR
