BEGIN:VCALENDAR
VERSION:2.0
CALSCALE:GREGORIAN
PRODID:-//Diputació de Barcelona//DibaCMS//EN
BEGIN:VEVENT
UID:3376
DTSTAMP:20260421T231237
DTSTART:20180513T180000
DTEND:20180513T200000
SUMMARY:El Festival d'Orgue comença amb jazz
LOCATION:
METHOD:PUBLISH
X-WR-CALNAME:capellades@capellades.cat
X-WR-TIMEZONE:Europe/Madrid
DESCRIPTION:El primer dels tres concerts del Festival d'Orgue de Capellades serà el diumenge 13 de maig a les 6 de la tarda.

URI:https://www.capellades.cat/actualitat/agenda/el-festival-dorgue-comenca-amb-jazz.html
CLASS:PUBLIC
END:VEVENT
END:VCALENDAR
