BEGIN:VCALENDAR
VERSION:2.0
CALSCALE:GREGORIAN
PRODID:-//Diputació de Barcelona//DibaCMS//EN
BEGIN:VEVENT
UID:3374
DTSTAMP:20260422T040141
DTSTART:20180510T183000
DTEND:20180510T200000
SUMMARY:Trobada sobre el protocol d'actuació en espais d'oci
LOCATION:C/ Pilar, 2 08786 Capellades
METHOD:PUBLISH
X-WR-CALNAME:capellades@capellades.cat
X-WR-TIMEZONE:Europe/Madrid
DESCRIPTION:Des de la regidoria d'Equitat es convoca a les entitats a una darrera trobada de treball abans de tancar la redacció del nou protocol d'actuació sexista en espais d'oci.

URI:https://www.capellades.cat/actualitat/agenda/trobada-sobre-el-protocol-dactuacio-en-espais-doci.html
CLASS:PUBLIC
END:VEVENT
END:VCALENDAR
