BEGIN:VCALENDAR
VERSION:2.0
CALSCALE:GREGORIAN
PRODID:-//Diputació de Barcelona//DibaCMS//EN
BEGIN:VEVENT
UID:3373
DTSTAMP:20260422T051858
DTSTART:20180509T103000
DTEND:20180509T130000
SUMMARY:Visita Oficina Mòbil d'Atenció al Consumidor
LOCATION:
METHOD:PUBLISH
X-WR-CALNAME:capellades@capellades.cat
X-WR-TIMEZONE:Europe/Madrid
DESCRIPTION:L'Oficina Mòbil d'Atenció al Consumidor torna a Capellades per resoldre tots els dubtes relacionats amb consum.

URI:https://www.capellades.cat/actualitat/agenda/3373-visita-oficina-mobil-datencio-al-consumidor.html
CLASS:PUBLIC
END:VEVENT
END:VCALENDAR
