BEGIN:VCALENDAR
VERSION:2.0
CALSCALE:GREGORIAN
PRODID:-//Diputació de Barcelona//DibaCMS//EN
BEGIN:VEVENT
UID:3372
DTSTAMP:20260422T092545
DTSTART:20180508T210000
DTEND:20180508T220000
SUMMARY:Audiciona't 34
LOCATION:C/ Divina Pastora, 10 08786 Capellades
METHOD:PUBLISH
X-WR-CALNAME:capellades@capellades.cat
X-WR-TIMEZONE:Europe/Madrid
DESCRIPTION:Aquest mes de maig l'Escola de Música farà el seu Audiciona't número 34.

URI:https://www.capellades.cat/actualitat/agenda/audicionat-34.html
CLASS:PUBLIC
END:VEVENT
END:VCALENDAR
