BEGIN:VCALENDAR
VERSION:2.0
CALSCALE:GREGORIAN
PRODID:-//Diputació de Barcelona//DibaCMS//EN
BEGIN:VEVENT
UID:3371
DTSTAMP:20260421T202703
DTSTART:20180508T180000
DTEND:20180508T190000
SUMMARY:Hora del Conte amb Clara Gavaldà
LOCATION:C/ Pilar, 2 08786 Capellades
METHOD:PUBLISH
X-WR-CALNAME:capellades@capellades.cat
X-WR-TIMEZONE:Europe/Madrid
DESCRIPTION:El dimarts 8 de maig a les 6 de la tarda tornarà la Clara Gavaldà a la Biblioteca El Safareig per una nova Hora del Conte.

URI:https://www.capellades.cat/actualitat/agenda/hora-del-conte-amb-clara-gavalda.html
CLASS:PUBLIC
END:VEVENT
END:VCALENDAR
