BEGIN:VCALENDAR
VERSION:2.0
CALSCALE:GREGORIAN
PRODID:-//Diputació de Barcelona//DibaCMS//EN
BEGIN:VEVENT
UID:3370
DTSTAMP:20260422T033623
DTSTART:20180507T171500
DTEND:20180507T190000
SUMMARY:Taller de robòtica educativa
LOCATION:C/ Pilar, 2 08786 Capellades
METHOD:PUBLISH
X-WR-CALNAME:capellades@capellades.cat
X-WR-TIMEZONE:Europe/Madrid
DESCRIPTION:Segona edició del Taller de Robòtica educativa a càrrec de Jordi Bosch.

URI:https://www.capellades.cat/actualitat/agenda/taller-de-robotica-educativa.html
CLASS:PUBLIC
END:VEVENT
END:VCALENDAR
